BEGIN:VCALENDAR
VERSION:2.0
PRODID:-//ÉRIQA - ECPv6.15.17//NONSGML v1.0//EN
CALSCALE:GREGORIAN
METHOD:PUBLISH
X-ORIGINAL-URL:https://eriqa.org
X-WR-CALDESC:Événements pour ÉRIQA
REFRESH-INTERVAL;VALUE=DURATION:PT1H
X-Robots-Tag:noindex
X-PUBLISHED-TTL:PT1H
BEGIN:VTIMEZONE
TZID:America/New_York
BEGIN:DAYLIGHT
TZOFFSETFROM:-0500
TZOFFSETTO:-0400
TZNAME:EDT
DTSTART:20230312T070000
END:DAYLIGHT
BEGIN:STANDARD
TZOFFSETFROM:-0400
TZOFFSETTO:-0500
TZNAME:EST
DTSTART:20231105T060000
END:STANDARD
BEGIN:DAYLIGHT
TZOFFSETFROM:-0500
TZOFFSETTO:-0400
TZNAME:EDT
DTSTART:20240310T070000
END:DAYLIGHT
BEGIN:STANDARD
TZOFFSETFROM:-0400
TZOFFSETTO:-0500
TZNAME:EST
DTSTART:20241103T060000
END:STANDARD
BEGIN:DAYLIGHT
TZOFFSETFROM:-0500
TZOFFSETTO:-0400
TZNAME:EDT
DTSTART:20250309T070000
END:DAYLIGHT
BEGIN:STANDARD
TZOFFSETFROM:-0400
TZOFFSETTO:-0500
TZNAME:EST
DTSTART:20251102T060000
END:STANDARD
END:VTIMEZONE
BEGIN:VEVENT
DTSTART;TZID=America/New_York:20241001T163000
DTEND;TZID=America/New_York:20241001T180000
DTSTAMP:20260425T131506
CREATED:20240828T142232Z
LAST-MODIFIED:20250321T215032Z
UID:5754-1727800200-1727805600@eriqa.org
SUMMARY:Conférence Simone Veil : Ilke Adam - Antiracisme en Europe : Politiques publiques et activisme
DESCRIPTION:Les conférences Simone Veil sont de retour! Le Centre Jean Monnet et l’ÉRIQA sont fiers d’accueillir Ilke Adam\, professeure à la VUB (Vrije Universiteit Brussel) et directrice du BIRMM. \nPlus de 20 ans après l’adoption de la directive européenne sur l’égalité raciale de 2000\, les politiques et les débats publics sur l’antidiscrimination et l’antiracisme en Europe ont changé. Au cours de cette conférence\, nous discuterons de l’interaction entre la contestation croissante des politiques existantes de l’UE et des États membres\, et les manifestations « Black Lives Matter » de 2020 comme facteurs contribuant à l’adoption du plan d’action de l’UE contre le racisme en 2020. \nL’inscription est obligatoire. Rendez-vous sur le site Eventbrite de l’événement pour vous inscrire.
URL:https://eriqa.org/evenement/ilke-adam/
LOCATION:Pavillon Jean-Brillant (Université de Montréal)\, salle B-3335\, 3200 rue Jean-Brillant\, Montréal\, QC\, H3T 1N8\, Canada
ATTACH;FMTTYPE=image/jpeg:https://eriqa.org/wp-content/uploads/2024/08/Adam-Ilke-scaled.jpg
END:VEVENT
BEGIN:VEVENT
DTSTART;VALUE=DATE:20241003
DTEND;VALUE=DATE:20241005
DTSTAMP:20260425T131506
CREATED:20240722T144426Z
LAST-MODIFIED:20240722T144426Z
UID:5726-1727913600-1728086399@eriqa.org
SUMMARY:Forum sur la régionalisation de l’immigration au Québec
DESCRIPTION:Les 3 et 4 octobre prochains aura lieu le Forum sur la régionalisation de l’immigration au Québec. La membre ÉRIQA Mireille Paquet y animera un panel. \nLe forum sur la régionalisation de l’immigration au Québec est un événement bisannuel d’une journée et demi organisé par Emplois en régions et financé par le ministère de l’Immigration\, de la Francisation et de l’intégration (MIFI). Il vise à rassembler les professionnels travaillant de près ou de loin à l’intégration des personnes immigrantes dans les différentes régions du Québec situées à l’extérieur de la Communauté métropolitaine de Montréal. \nRassemblant un peu plus de 300 participants provenant des secteurs communautaire\, municipal\, institutionnel et privé\, cet événement d’envergure permet de développer ses connaissances\, d’échanger avec ses pairs et de découvrir les meilleures pratiques reliées à l’intégration des personnes immigrantes. \nCette troisième édition s’articulera autour de la thématique de la mobilisation des forces locales. Elle présentera quatre panels abordant différents aspects de la régionalisation de l’immigration\, deux conférences concernant des projets réussis d’intégration de larges groupes de personnes immigrantes sur un territoire\, des kiosques présentant des projets spécifiques de concertation locales sur la thématique de l’immigration ainsi que des animations spécifiques afin de faire émerger des pistes d’actions collectives pour le futur. De plus\, un cocktail réseautage se tiendra à la fin de la première journée du forum. \nPour acheter vos billets\, visitez la page de l’événement sur Eventbrite.
URL:https://eriqa.org/evenement/forum-sur-la-regionalisation-de-limmigration-au-quebec/
LOCATION:Centrexpo Cogeco Drummondville\, 550 Rue Saint Amant\, Drummondville\, QC\, J2C 6Z3\, Canada
ATTACH;FMTTYPE=image/jpeg:https://eriqa.org/wp-content/uploads/2024/07/https___cdn.evbuc_.com_images_792099569_2183689146053_1_original.jpeg
END:VEVENT
BEGIN:VEVENT
DTSTART;TZID=America/New_York:20241003T160000
DTEND;TZID=America/New_York:20241003T173000
DTSTAMP:20260425T131506
CREATED:20240923T134150Z
LAST-MODIFIED:20240923T164953Z
UID:5807-1727971200-1727976600@eriqa.org
SUMMARY:Séminaire de l'IRMS avec Andrew Parkin : What Happened to the "Canadian Consensus" on Immigration?
DESCRIPTION:Le 3 octobre 2024\, l’Institut de recherche sur les migrations et la société de l’Université Concordia accueille Andrew Parkin\, PhD et directeur exécutif de l’Environics Institute.   \nEn s’appuyant sur des données d’opinion publique des 40 dernières années\, Andrew Parkin retracera l’évolution publique de l’opinion canadienne envers l’immigration sur le long terme ainsi que ces dernières années\, en faisant la différence entre les opinions sur le système d’immigration\, celles sur l’impact économique de l’immigration et celles sur la contribution des immigrations à la société et à la culture canadienne. Il portera une attention particulière aux différences entre régions\, en se demandant notamment si et en quoi l’opinion publique québécoise diffère de celle des autres provinces. \nA noter que la conférence se tiendra en anglais. \nPour vous inscrire\, remplissez ce formulaire.
URL:https://eriqa.org/evenement/seminaire-de-lirms-avec-andrew-parkin-what-happened-to-the-canadian-consensus-on-immigration/
LOCATION:Henry F. Hall Building (Université Concordia) Salle H1220\, 1455 de Maisonneuve\, Montréal\, Québec\, H3G1M8\, Canada
ATTACH;FMTTYPE=image/png:https://eriqa.org/wp-content/uploads/2024/09/Poster-AP-Oct3rd-eriqa.png
END:VEVENT
BEGIN:VEVENT
DTSTART;TZID=America/New_York:20241007T123000
DTEND;TZID=America/New_York:20241007T133000
DTSTAMP:20260425T131506
CREATED:20240826T151637Z
LAST-MODIFIED:20240826T151637Z
UID:5744-1728304200-1728307800@eriqa.org
SUMMARY:Déplacements forcés : la perspective du HCR
DESCRIPTION:L’ÉRIQA et le CPDS vous présentent la troisième conférence du cycle Migrations et citoyennetés. Nous recevons Joey Hanna de l’Agence des Nations Unies pour les réfugiés (UNHCR). \nLa présentation a pour but de présenter le mandat\, la gouvernance\, ainsi que les instruments juridiques mobilisés par le HCR dans le cadre de son mandat de protection internationale. La présentation offrira également un éclairage sur les plus récentes statistiques en matière de déplacements forcés tout en présentant les défis et les obstacles auxquels les personnes déplacées de force\, ainsi que le HCR\, font face. \nJoey Hanna est membre du Barreau du Québec et occupe actuellement le poste de chef de bureau du HCR\, l’Agence des Nations Unies pour les réfugiés\, à Montréal. Avant de rejoindre le HCR en 2021\, Me Hanna exerçait la profession d’avocat à l’aide juridique de Montréal où il représentait des populations vulnérables\, notamment des personnes réfugiées et demandeuses d’asile\, devant les tribunaux en droit civil\, social et familial. En parallèle\, Me Hanna partageait son expertise en tant que chargé de cours à l’UQAM et professeur à l’École du Barreau du Québec. Il a enseigné le droit de la famille\, le droit des personnes\, la procédure civile\, ainsi que les aspects pratiques et théoriques de la rédaction\, de la négociation et de la consultation juridique.
URL:https://eriqa.org/evenement/deplacements-forces-la-perspective-du-hcr/
LOCATION:Pavillon Jean-Brillant (Université de Montréal)\, salle B-4345\, 3200 rue Jean-Brillant\, Montréal\, QC\, H3T 1N8\, Canada
ATTACH;FMTTYPE=image/png:https://eriqa.org/wp-content/uploads/2024/08/Joey-Hanna.png
END:VEVENT
BEGIN:VEVENT
DTSTART;TZID=America/New_York:20241010T113000
DTEND;TZID=America/New_York:20241010T133000
DTSTAMP:20260425T131506
CREATED:20240909T165654Z
LAST-MODIFIED:20240909T165654Z
UID:5780-1728559800-1728567000@eriqa.org
SUMMARY:Conférence du CJMM et du CÉRIUM - Nouvelle forme de famille\, liens de parenté et mobilité en Europe
DESCRIPTION:Le Centre Jean Monnet de Montréal\, en partenariat avec le CÉRIUM\, organise une table ronde intitulée « Nouvelle forme de famille\, liens de parenté et mobilité en Europe ». Cet événement\, présidé par Ahmed Hamila (Université de Montréal)\, réunira des experts renommés pour discuter des évolutions et des défis entourant les nouvelles dynamiques familiales et les mobilités en Europe. Parmi les panélistes\, nous aurons le plaisir d’accueillir Belinda Dear (Chargé de plaidoyer senior – ILGA-Europe)\, Maria Vilar Badia (Conseillère législative – Commission européenne – Direction générale de la justice et des consommateurs)\, ainsi que Marianne Chbat (coordonnatrice principale à la recherche – Clinique Mauve). Ne manquez pas cette occasion unique d’en apprendre davantage sur ces enjeux cruciaux et d’échanger avec des spécialistes engagés dans le domaine. \n  \nLa table ronde vise à explorer les nouvelles dynamiques familiales et les défis de mobilité en Europe sous l’angle de la démocratie libérale\, notamment dans un contexte de recul démocratique observé dans certains États de l’Union européenne à la suite de l’élection de gouvernements populistes. Plus spécifiquement\, il s’agira d’examiner la proposition de politique de la Commission européenne visant à faciliter la reconnaissance de la filiation parentale entre les États membres (Regulation on the recognition of parenthood between member states). Cette initiative cherche à résoudre les obstacles administratifs et juridiques rencontrés par les familles en mobilité transfrontalière au sein de l’Union européenne. Nous réfléchirons aux implications de cette proposition sur les droits des enfants et des parents\, en particulier pour les familles LGBTIQ et celles ayant eu recours à des mères porteuses. \nIl s’agira ainsi de démêler les complexités juridiques et socio-politiques inhérentes à cette proposition\, notamment les questions de droit à la mobilité\, de reconnaissance des droits LGBTIQ\, de procréation assistée et de diversité familiale. Nous explorerons également les raisons de la présence de cette proposition à l’agenda décisionnel de l’UE\, en tenant compte des défis liés à la compétence nationale en matière de droit familial et des tensions démocratiques dans certains États membres. \nCette table ronde offre une occasion de comprendre les forces motrices derrière cette politique émergente\, qu’il s’agisse de processus de judiciarisation\, de mobilisations des mouvements sociaux ou d’effets d’entrainement au sein de l’intégration européenne. En outre\, nous envisagerons l’impact de cette proposition à l’échelle internationale\, soulignant son alignement potentiel avec des normes et des débats mondiaux sur les droits des familles et des individus LGBTIQ. \n  \nDate : Jeudi 10 octobre 2024\nHeure : 11h30 – 13h30\nLieu : En ligne\nLien pour s’inscrire : https://bit.ly/CJMM-CERIUM
URL:https://eriqa.org/evenement/conference-du-cjmm-et-du-cerium-nouvelle-forme-de-famille-liens-de-parente-et-mobilite-en-europe/
LOCATION:En ligne (inscription obligatoire)
ATTACH;FMTTYPE=image/jpeg:https://eriqa.org/wp-content/uploads/2024/08/Conference-CJMM-Cerium-Amhed-1-scaled.jpg
END:VEVENT
BEGIN:VEVENT
DTSTART;TZID=America/New_York:20241018T093000
DTEND;TZID=America/New_York:20241018T183000
DTSTAMP:20260425T131506
CREATED:20241011T191603Z
LAST-MODIFIED:20241011T192815Z
UID:5862-1729243800-1729276200@eriqa.org
SUMMARY:Colloque Migrations forcées : hospitalité et réciprocité
DESCRIPTION:Le 18 octobre\, le département de sociologie de l’UQÀM organise un colloque interuniversitaire intitulé “Migrations forcées : hospitalité et réciprocité”. \nS’il est vrai que les personnes déplacées forcé.es ont été fragilisées par les circonstances particulièrement violentes les ayant forcées à quitter leur “chez-soi”\, il est vrai aussi qu’elles sont bien plus que des victimes ou bénéficiaires de services. Là où elles arrivent\, elles contribuent avec la population “déjà là” à la vie politique\, économique et culturelle. Ce colloque s’intéresse au rôle des personnes déplacées forcées dans la mise en place de solutions aux enjeux posés par les déplacements. \nChedly Belkhodja\, membre ÉRIQA\, interviendra dans le second panel du colloque\, de 13h30 à 15h30. Sa présentation s’intitule “Repenser la figure de celui et celle qui accueille. L’hospitalité au chemin Roxham”.  \nL’événement aura lieu en présentiel à l’UQÀM mais aussi en ligne sur zoom. Lien d’accès.
URL:https://eriqa.org/evenement/colloque-migrations-forcees-hospitalite-et-reciprocite/
LOCATION:Pavillon Président Kennedy (UQAM)\, 201\, Av. du Président-Kennedy\, Salle PK-1140\, 201 avenue Président Kennedy\, Montréal\, Québec\, H2X 3Y7\, Canada
ATTACH;FMTTYPE=image/png:https://eriqa.org/wp-content/uploads/2024/10/colloque-UQAM.png
END:VEVENT
BEGIN:VEVENT
DTSTART;VALUE=DATE:20241022
DTEND;VALUE=DATE:20241023
DTSTAMP:20260425T131506
CREATED:20240722T143430Z
LAST-MODIFIED:20240722T143430Z
UID:5721-1729555200-1729641599@eriqa.org
SUMMARY:Sommet de l'immigration au Québec
DESCRIPTION:La 5e édition du Sommet de l’immigration aura lieu le 22 octobre prochain au Fairmont le Château Frontenac à Québec. Le Sommet de l’immigration a pour objectif de rassembler à l’automne chaque année sur une journée les professionnels intéressés par le domaine de l’immigration au Québec. Le Sommet souhaite fédérer ces acteurs de l’immigration et réfléchir à la façon dont chacun doit s’adapter afin de mieux s’organiser face aux enjeux de l’immigration. L’ÉRIQA est fière de présenter un atelier dans le cadre du Sommet. \nDétails à venir. Pour réserver votre billet\, rendez-vous sur le site web du Sommet.
URL:https://eriqa.org/evenement/sommet-de-limmigration-au-quebec/
LOCATION:Fairmont le Chateau Frontenac\, 1 Rue des Carrières\, Québec\, QC\, G1R 4P5\, Canada
ATTACH;FMTTYPE=image/jpeg:https://eriqa.org/wp-content/uploads/2024/07/https___cdn.evbuc_.com_images_719417089_256780976028_1_original.jpeg
END:VEVENT
BEGIN:VEVENT
DTSTART;TZID=America/New_York:20241025T133000
DTEND;TZID=America/New_York:20241025T151500
DTSTAMP:20260425T131506
CREATED:20241003T143513Z
LAST-MODIFIED:20250321T214053Z
UID:5836-1729863000-1729869300@eriqa.org
SUMMARY:Congrès IHAF - Table ronde: Évolution et adaptation des stéréotypes sur les personnes immigrées : perspectives historiques et politiques
DESCRIPTION:Le 76e Congrès de l’Institut d’Histoire de l’Amérique française a sorti sa programmation ! Retrouvez Chedly Belkhodja (Université Concordia) et Catherine Xhardez (Université de Montréal)\, nos membres ÉRIQA\, ainsi que Virginie Belony (Université de Montréal) et Luca Sollai (Université de Montréal) pour une table ronde sur les perspectives politiques et historiques de l’évolution des stéréotypes sur les personnes immigrées.  \nAujourd’hui\, le thème de l’immigration occupe une place centrale dans le débat politique et public au Québec. Toutefois\, l’instrumentalisation et l’essentialisation des groupes immigrant.e.s n’est pas une tendance nouvelle. Depuis la fin de la Seconde Guerre mondiale\, et dans un contexte de migration importante au Canada et au Québec pendant la deuxième tranche du 20e siècle\, les immigrant.e.s ont été la cible de rhétoriques stigmatisantes et de propagandes véhiculées par la presse et plusieurs partis politiques. \nDe 1950 à 1970\, les Italiens\, puis au courant des années 1970-1990\, les Haïtiens\, ont fréquemment été les boucs émissaires des problèmes sociaux dans le discours politique et médiatique québécois. Qui sont les italien.ne.s et les haïtien.ne.s d’aujourd’hui? \nL’objectif de cette table ronde est d’explorer la continuité de certains thèmes\, des discours et stéréotypes qui\, par le passé\, visaient ouvertement certains groupes d’immigrés\, et qui persistent – parfois plus subtilement – dans le discours politique et médiatique québécois. Cette table ronde propose un regard historique mais également multidisciplinaire et actuel sur ces questions\, avec la participation des chercheurs et chercheuses de l’ERIQA (Équipe de recherche sur l’Immigration au Québec et ailleurs). Son but est d’examiner les stéréotypes récurrents à l’égard des populations immigrées de l’après-Seconde Guerre mondiale jusqu’à aujourd’hui. À cette fin\, cette table ronde présentera une analyse de la presse francophone et des plateformes des principaux partis politiques québécois\, afin d’identifier l’évolution du concept d’altérité vis-à-vis des personnes immigrées au fil du temps. De plus\, les particularités de la construction de l’altérité italienne puis haïtienne seront explorées. \nLa table ronde sera ouverte au public et aux étudiants (même si le Congrès est payant). Retrouvez toutes les informations sur la programmation et les inscriptions sur la page web du Congrès.
URL:https://eriqa.org/evenement/congres-ihaf-table-ronde/
LOCATION:Université de Montréal\, Campus MIL\, salle A-3521\, 1375 av. Thérèse-Lavoie-Roux\, Montréal\, Québec\, H2V0B3\, Canada
ATTACH;FMTTYPE=image/png:https://eriqa.org/wp-content/uploads/2024/10/Congres-de-lInstitut-dhistoire-de-lAmerique-francaise-1.png
END:VEVENT
BEGIN:VEVENT
DTSTART;TZID=America/New_York:20241026T113000
DTEND;TZID=America/New_York:20241026T130000
DTSTAMP:20260425T131506
CREATED:20241011T195757Z
LAST-MODIFIED:20241011T195939Z
UID:5869-1729942200-1729947600@eriqa.org
SUMMARY:Rencontres Maîtres chez Vous - Les défis du vivre-ensemble au Québec
DESCRIPTION:Le 26 octobre 2024 se tiendra la 18e édition des Rencontres Maîtres chez Vous\, colloque dédié aux enjeux d’affaires publiques\, par et pour les jeunes\, afin d’encourager le débat et l’émergence de nouvelles idées\, organisé par Force Jeunesse. \nDe 11h30 à 13h00 aura lieu un panel thématique sur les défis du vivre-ensemble au Québec.  \nLe Québec a collectivement choisi de faire de l’immigration une réponse à ses besoins économiques et démographiques. L’installation d’un nombre grandissant de personnes immigrantes et réfugiées présente plusieurs défis en matière de vivre-ensemble. Pourtant\, à ce jour\, aucun gouvernement n’a formalisé le modèle de la province dans ce domaine\, qui se voudrait distinct de la politique du multiculturalisme canadien. Dans ce contexte\, comment l’État soutient-il le développement et la cohésion d’une société pluraliste et francophone ? Les actions visant à ce que les milieux et le groupe majoritaire soient encore plus ouverts et accueillants sont-elles suffisantes ? Comment favoriser la pleine participation de toutes et tous ainsi que le développement d’un sentiment d’appartenance envers la nation québécoise ? \nPour répondre à ces questions\, David Carpentier\, doctorant et chargé de cours à l’Ecole d’études politiques de l’Université d’Ottawa animera une discussion entre Jean-François Roberge\, Ministre de l’Immigration\, de la Francisation et de l’Intégration\, Ministre de la langue française et Ministre de la Laïcité; Myrlande Pierre\, Vice-présidente du mandat charte\, Commission des droits de la personne et des droits de la jeunesse; Stephan Reichhold\, Directeur général de la Table de concertation des organismes au service des personnes réfugiées et immigrantes (TCRI) ainsi que Catherine Xhardez\, membre ÉRIQA et Professeure adjointe au Département de science politique de l’Université de Montréal. \nPour vous inscrire\, rendez-vous sur le site Eventbrite de l’événement.
URL:https://eriqa.org/evenement/rencontres-maitres-chez-vous-les-defis-du-vivre-ensemble-au-quebec/
LOCATION:HEC Montréal – Édifice Hélène-Desmarais\, 501 Rue De la Gauchetière O\, Montréal\, Québec\, H2Z1Z5\, Canada
ATTACH;FMTTYPE=image/png:https://eriqa.org/wp-content/uploads/2024/10/RCV-force-jeunesse-26oct.png
END:VEVENT
END:VCALENDAR