BEGIN:VCALENDAR
VERSION:2.0
PRODID:-//ÉRIQA - ECPv6.15.17//NONSGML v1.0//EN
CALSCALE:GREGORIAN
METHOD:PUBLISH
X-WR-CALNAME:ÉRIQA
X-ORIGINAL-URL:https://eriqa.org
X-WR-CALDESC:Événements pour ÉRIQA
REFRESH-INTERVAL;VALUE=DURATION:PT1H
X-Robots-Tag:noindex
X-PUBLISHED-TTL:PT1H
BEGIN:VTIMEZONE
TZID:America/New_York
BEGIN:DAYLIGHT
TZOFFSETFROM:-0500
TZOFFSETTO:-0400
TZNAME:EDT
DTSTART:20250309T070000
END:DAYLIGHT
BEGIN:STANDARD
TZOFFSETFROM:-0400
TZOFFSETTO:-0500
TZNAME:EST
DTSTART:20251102T060000
END:STANDARD
BEGIN:DAYLIGHT
TZOFFSETFROM:-0500
TZOFFSETTO:-0400
TZNAME:EDT
DTSTART:20260308T070000
END:DAYLIGHT
BEGIN:STANDARD
TZOFFSETFROM:-0400
TZOFFSETTO:-0500
TZNAME:EST
DTSTART:20261101T060000
END:STANDARD
BEGIN:DAYLIGHT
TZOFFSETFROM:-0500
TZOFFSETTO:-0400
TZNAME:EDT
DTSTART:20270314T070000
END:DAYLIGHT
BEGIN:STANDARD
TZOFFSETFROM:-0400
TZOFFSETTO:-0500
TZNAME:EST
DTSTART:20271107T060000
END:STANDARD
END:VTIMEZONE
BEGIN:VEVENT
DTSTART;TZID=America/New_York:20260423T083000
DTEND;TZID=America/New_York:20260423T170000
DTSTAMP:20260422T220400
CREATED:20260415T194843Z
LAST-MODIFIED:20260416T162105Z
UID:7095-1776933000-1776963600@eriqa.org
SUMMARY:Atelier sur l’externalisation du contrôle des migrations au Canada et ailleurs
DESCRIPTION:La faculté de droit de l’Université McGill organise\, avec Gamze Ovacık et François Crépeau\, un atelier sur l’externalisation du contrôle des migrations au Canada et ailleurs le jeudi 23 avril de 8:30 à 17:00. Cet atelier\, qui aura lieu en anglais\, se déroulera tout au long de la journée et comprendra trois panels réunissant certains de nos membres\, ponctués de plusieurs pauses-café. \n  \nPanel 1 (9h00-10h45). Chair/Discussant-Présidente/Intervenante: Megan Bradley  \n\nJoshua Blum and Audrey Macklin – The Decay of the Safe Third Country Concept \n\n\nAbdou Khadre Diop – Externalization\, Regional Integration and Competing Narratives of Sovereignty: A Critical Reading from West Africa \n\n\nLuna Vives\, membre de l’ÉRIQA\, professeure agrégée au département de géographie de l’Université de Montréal. – The AGAMENON project: Permanent Surveillance in the Atlantic and the Externalization of Migration Controls  \n\n\nGamze Ovacık – Safe Third Country Concept: A Tool for Containment and Illegalization of Mobility \n\n  \nPanel 2 (11h15-13h00). Chair/Discussant-Présidente/Intervenante: Audrey Macklin  \n\nDelphine Nakache \n\n\nKristine Plouffe-Malette – Le chemin Roxham comme révélateur de l’externalisation du contrôle migratoire canadien: illégalisation des mobilités et fermeture de l’asile en Amérique du Nord \n\n\nKiran Banerjee – Between a Rock and a Hard Spot: UNHCR & the Politics of Asylum Governance in Canada \n\n\nAnne-Marie Daoust\, membre de l’ÉRIQA\, professeure titulaire de science politique à l’Université du Québec à Montréal et titulaire de la Chaire de recherche du Canada sur la gouvernance sécuritaire des corps la mobilité et les frontières (GSCM).\n\n  \nPanel 3 (14h00-15h45). Chair/Discussant-Présidente/Intervenante: Catherine Xhardez\, directrice de l’ÉRIQA et professeure adjointe au département de science politique de l’Université de Montréal \n\nIan Kysel – Adjudicating International Responsibility for the Externalization of Migration Control \n\n\nNoémie Boivin – Humanitarian Approach or ‘Soft’ Containment? Migration and Asylum Law in Mexico \n\n\nJuliana Poveda Clavijo – Global North-Made Safety: Crafting a ‘Safe’ Colombia for Forced Migrants \n\n\nAnna Purkey \n\nLes personnes intéressées sont invitées à contacter GamzeOvacık (gamze.ovacik@mcgill.ca)\, cet événement étant accessible sur invitation seulement.
URL:https://eriqa.org/evenement/atelier-externalisation-controle-migration-canada-ailleur/
LOCATION:Québec
ATTACH;FMTTYPE=image/png:https://eriqa.org/wp-content/uploads/2026/04/Poster-Externalization-Workshop-1.png
END:VEVENT
END:VCALENDAR