BEGIN:VCALENDAR
VERSION:2.0
PRODID:-//ÉRIQA - ECPv6.15.17//NONSGML v1.0//EN
CALSCALE:GREGORIAN
METHOD:PUBLISH
X-ORIGINAL-URL:https://eriqa.org
X-WR-CALDESC:Événements pour ÉRIQA
REFRESH-INTERVAL;VALUE=DURATION:PT1H
X-Robots-Tag:noindex
X-PUBLISHED-TTL:PT1H
BEGIN:VTIMEZONE
TZID:America/New_York
BEGIN:DAYLIGHT
TZOFFSETFROM:-0500
TZOFFSETTO:-0400
TZNAME:EDT
DTSTART:20250309T070000
END:DAYLIGHT
BEGIN:STANDARD
TZOFFSETFROM:-0400
TZOFFSETTO:-0500
TZNAME:EST
DTSTART:20251102T060000
END:STANDARD
BEGIN:DAYLIGHT
TZOFFSETFROM:-0500
TZOFFSETTO:-0400
TZNAME:EDT
DTSTART:20260308T070000
END:DAYLIGHT
BEGIN:STANDARD
TZOFFSETFROM:-0400
TZOFFSETTO:-0500
TZNAME:EST
DTSTART:20261101T060000
END:STANDARD
BEGIN:DAYLIGHT
TZOFFSETFROM:-0500
TZOFFSETTO:-0400
TZNAME:EDT
DTSTART:20270314T070000
END:DAYLIGHT
BEGIN:STANDARD
TZOFFSETFROM:-0400
TZOFFSETTO:-0500
TZNAME:EST
DTSTART:20271107T060000
END:STANDARD
END:VTIMEZONE
BEGIN:VEVENT
DTSTART;TZID=America/New_York:20260402T153000
DTEND;TZID=America/New_York:20260402T170000
DTSTAMP:20260424T092842
CREATED:20260318T132711Z
LAST-MODIFIED:20260318T133521Z
UID:6908-1775143800-1775149200@eriqa.org
SUMMARY:Lancement du livre Sortir du placard\, entrer en Europe: La fabrique des réfugiés LGBTI en Belgique\, en France et au Royaume-Uni
DESCRIPTION:Dans le cadre de la journée Rencontres art et immigration\, le Centre de recherche Cultures – Arts – Sociétés et l’ÉRIQA vous convient au lancement du livre Sortir du placard\, entrer en Europe: La fabrique des réfugiés LGBTI en Belgique\, en France et au Royaume-Uni (Éditions de l’Université de Bruxelles\, 2025)\, qui aura lieu le jeudi 2 avril 2026\, de 15 h 30 à 17 h\, à l’Université Laval (salle DKN-3244)\, en présence de l’auteur de l’ouvrage Ahmed Hamila\, membre de l’ÉRIQA et professeur adjoint au département de sociologie de l’Université de Montréal. Animée par Adèle Garnier\, directrice générale du CELAT\, membre de l’ÉRIQA et professeure agrégée au département de géogaphie à l’Université de Laval\, la rencontre prendra la forme d’un dialogue réunissant Ahmed Hamila\, Elizabeth Hessek\, doctorante au Département de géographie de l’Université de Montréal\, Nikita Suire\, doctorante au Département d’anthropologie de l’Université Laval et Rine Vieth\, postdoctorant au Département de science politique de l’Université Laval. \nPlus d’informations et inscription obligatoire sur le site du CELAT.  \n  \nPrésentation publiée sur le site web de l’éditeur \n« Comment prouver que je suis gay ? C’est la question que se pose chaque demandeur d’asile persécuté dans son pays d’origine en raison de son orientation sexuelle et qui invoque ce motif pour obtenir le statut de réfugié en Europe. La particularité des demandes d’asile fondées sur l’orientation sexuelle tient à ce que le regard des juges porte moins sur la réalité des persécutions que sur la véracité de l’homosexualité des requérants : c’est donc l’homosexualité qui ouvre les portes de l’asile. La réponse à cette question n’est pas aisée\, car comme démontré dans ce livre\, en Europe d’un pays à l’autre la conception de l’homosexualité et de ce qui constitue un « réfugié LGBTI » n’est pas la même\, ce qui se matérialise par des critères différents pour établir la crédibilité des demandeurs d’asile et leur octroyer la protection internationale.En retraçant la fabrique de cette nouvelle catégorie de réfugiés en Belgique\, en France et au Royaume-Uni\, cet ouvrage propose d’identifier les facteurs qui expliquent que malgré le régime d’asile européen commun les critères pour octroyer le statut de réfugié aux demandeurs d’asile invoquant des persécutions du fait de leur orientation sexuelle diffèrent considérablement d’un pays à l’autre en Europe. Conjuguant sociologie de l’action publique\, études migratoires et études sur la sexualité\, ce livre propose de disséquer le processus de catégorisation des réfugiés LGBTI en s’intéressant aux acteurs administratifs\, associatifs et judiciaires du droit d’asile ainsi qu’à leurs interactions\, apportant une contribution nouvelle aux débats autour des nationalismes sexuels. »
URL:https://eriqa.org/evenement/lancement-lsortir-du-placard-entrer-en-europe-fabrique-refugies-lgbti/
LOCATION:Université Laval (salle DKN-3244)\, 1030 Av. des Sciences Humaines\, Québec\, Québec\, G1V 0A6\, Canada
ATTACH;FMTTYPE=image/webp:https://eriqa.org/wp-content/uploads/2026/03/Lancement-dAhmed-Hamila.webp
END:VEVENT
END:VCALENDAR