BEGIN:VCALENDAR
VERSION:2.0
PRODID:-//ÉRIQA - ECPv6.15.17//NONSGML v1.0//EN
CALSCALE:GREGORIAN
METHOD:PUBLISH
X-WR-CALNAME:ÉRIQA
X-ORIGINAL-URL:https://eriqa.org
X-WR-CALDESC:Événements pour ÉRIQA
REFRESH-INTERVAL;VALUE=DURATION:PT1H
X-Robots-Tag:noindex
X-PUBLISHED-TTL:PT1H
BEGIN:VTIMEZONE
TZID:America/New_York
BEGIN:DAYLIGHT
TZOFFSETFROM:-0500
TZOFFSETTO:-0400
TZNAME:EDT
DTSTART:20240310T070000
END:DAYLIGHT
BEGIN:STANDARD
TZOFFSETFROM:-0400
TZOFFSETTO:-0500
TZNAME:EST
DTSTART:20241103T060000
END:STANDARD
BEGIN:DAYLIGHT
TZOFFSETFROM:-0500
TZOFFSETTO:-0400
TZNAME:EDT
DTSTART:20250309T070000
END:DAYLIGHT
BEGIN:STANDARD
TZOFFSETFROM:-0400
TZOFFSETTO:-0500
TZNAME:EST
DTSTART:20251102T060000
END:STANDARD
BEGIN:DAYLIGHT
TZOFFSETFROM:-0500
TZOFFSETTO:-0400
TZNAME:EDT
DTSTART:20260308T070000
END:DAYLIGHT
BEGIN:STANDARD
TZOFFSETFROM:-0400
TZOFFSETTO:-0500
TZNAME:EST
DTSTART:20261101T060000
END:STANDARD
END:VTIMEZONE
BEGIN:VEVENT
DTSTART;TZID=America/New_York:20251031T141500
DTEND;TZID=America/New_York:20251031T151500
DTSTAMP:20260424T180430
CREATED:20251017T183415Z
LAST-MODIFIED:20251029T143209Z
UID:6484-1761920100-1761923700@eriqa.org
SUMMARY:Conférence - Nouvelle vague\, nouvelles expériences: Comprendre le déplacement à travers les productions artistiques en Allemagne et au Canada
DESCRIPTION:Pour cette deuxième conférence du cycle “Migrations et Citoyennetés” organisé par nos membres Luna Vives et Ahmed Hamila\, nous accueillons Ovgu Ulgen. \nÖvgü Ülgen est actuellement postdoctorante au CELAT\, en géographie\, à l’Université Laval. Elle est titulaire d’un doctorat en sociologie de l’Université de Montréal (2023) et d’une maîtrise en sociologie de l’École des hautes études en sciences sociales (EHESS) à Paris (2014). Ses recherches portent sur la migration internationale\, la géographie\, la race et l’ethnicité\, la religion\, la diversité\, l’Europe\, le Canada\, le Moyen-Orient et l’Afrique du Nord\, les méthodes qualitatives\, la sociologie politique et le genre. De 2023 à 2024\, elle a été postdoctorante à l’Université du Québec à Montréal où elle a contribué à un projet sur les demandeur-ses d’asile au Québec. Elle a également été chercheuse associée à l’Université York en 2024-2025.  \nRésumé: Le discours sur la nouvelle vague de départs de citoyen·ne·s turc·ques s’est intensifié après les manifestations de Gezi Park (2013) et la tentative de coup d’État de 2016\, avec une hausse de 243 % des départs vers l’étranger entre 2017 et 2023. Cet article explore les expériences de ces émigré·e·s au Canada et en Allemagne à travers l’analyse de cinq œuvres — un film et quatre pièces de théâtre. Il montre comment la production artistique permet d’exprimer la migration\, de négocier l’appartenance et d’affirmer l’agentivité face au déplacement politique.  \nLa présentation aura lieu le 31 octobre à 14h15 dans la salle B-4260\, pavillon Jean-Brillant\, Université de Montréal.
URL:https://eriqa.org/evenement/conference-nouvelle-vague-nouvelles-experiences-comprendre-le-deplacement-a-travers-les-productions-artistiques-en-allemagne-et-au-canada/
LOCATION:B-4260\, pavillon Jean-Brillant\, Université de Montréal\, 3200 rue Jean-Brillant\, Montréal\, QC\, H3T 1N8
ATTACH;FMTTYPE=image/jpeg:https://eriqa.org/wp-content/uploads/2025/10/Affiche-finale-cycle-conf-1.jpg
END:VEVENT
END:VCALENDAR