BEGIN:VCALENDAR
VERSION:2.0
PRODID:-//ÉRIQA - ECPv6.15.17//NONSGML v1.0//EN
CALSCALE:GREGORIAN
METHOD:PUBLISH
X-ORIGINAL-URL:https://eriqa.org
X-WR-CALDESC:Événements pour ÉRIQA
REFRESH-INTERVAL;VALUE=DURATION:PT1H
X-Robots-Tag:noindex
X-PUBLISHED-TTL:PT1H
BEGIN:VTIMEZONE
TZID:America/New_York
BEGIN:DAYLIGHT
TZOFFSETFROM:-0500
TZOFFSETTO:-0400
TZNAME:EDT
DTSTART:20240310T070000
END:DAYLIGHT
BEGIN:STANDARD
TZOFFSETFROM:-0400
TZOFFSETTO:-0500
TZNAME:EST
DTSTART:20241103T060000
END:STANDARD
BEGIN:DAYLIGHT
TZOFFSETFROM:-0500
TZOFFSETTO:-0400
TZNAME:EDT
DTSTART:20250309T070000
END:DAYLIGHT
BEGIN:STANDARD
TZOFFSETFROM:-0400
TZOFFSETTO:-0500
TZNAME:EST
DTSTART:20251102T060000
END:STANDARD
BEGIN:DAYLIGHT
TZOFFSETFROM:-0500
TZOFFSETTO:-0400
TZNAME:EDT
DTSTART:20260308T070000
END:DAYLIGHT
BEGIN:STANDARD
TZOFFSETFROM:-0400
TZOFFSETTO:-0500
TZNAME:EST
DTSTART:20261101T060000
END:STANDARD
END:VTIMEZONE
BEGIN:VEVENT
DTSTART;TZID=America/New_York:20250326T120000
DTEND;TZID=America/New_York:20250326T131500
DTSTAMP:20260425T071517
CREATED:20250305T160621Z
LAST-MODIFIED:20250305T161158Z
UID:6091-1742990400-1742994900@eriqa.org
SUMMARY:Midi-InterActions - La recherche RÉAC
DESCRIPTION:L’équipe du Centre InterActions est heureuse de vous convier au prochain Midi-InterActions. L’événement aura lieu le 26 mars 2025 de 12h à 13h15 en visio-conférence (Zoom).\n\n\n\n\n\n\nAfin de réduire les facteurs de vulnérabilité auxquels les personnes réfugiées et demandeuses d’asile (PRDA) ont été confrontées pendant la pandémie de COVID-19\, les organisations des secteurs public et communautaire ont déployé des efforts de coordination à travers des initiatives intersectorielles. Venez en apprendre plus sur la recherche RÉAC! avec nous. Celle-ci a consisté en une étude de cas multiples à Montréal\, Sherbrooke et Toronto pour analyser les défis d’implémentation d’initiatives intersectorielles pendant la COVID-19.\n\n\nTitre : Succès et défis de collaborations intersectorielles au Québec et en Ontario au service des personnes réfugiées et demandeuses d’asile en temps de crise\n\n\nConférencière : Lara Gautier\, professeure adjointe au Département de Gestion\, Évaluation et Politique de Santé de l’École de Santé Publique de l’Université de Montréal\n\n\nCommentatrice terrain : Nina Meango est directrice des programmes de santé à l’Alliance des communautés culturelles pour l’égalité dans la santé et les services sociaux (ACCÉSSS)\n\n\n\n\n\n\n\n\n\n\n\n\n\n\n\n\n\n\nPour vous inscrire et avoir plus d’informations\, suivez ce lien.
URL:https://eriqa.org/evenement/midi-interactions-la-recherche-reac/
LOCATION:En ligne (inscription obligatoire)
ATTACH;FMTTYPE=image/png:https://eriqa.org/wp-content/uploads/2025/03/Midi-interactions.png
END:VEVENT
END:VCALENDAR