BEGIN:VCALENDAR
VERSION:2.0
PRODID:-//ÉRIQA - ECPv6.15.17//NONSGML v1.0//EN
CALSCALE:GREGORIAN
METHOD:PUBLISH
X-ORIGINAL-URL:https://eriqa.org
X-WR-CALDESC:Événements pour ÉRIQA
REFRESH-INTERVAL;VALUE=DURATION:PT1H
X-Robots-Tag:noindex
X-PUBLISHED-TTL:PT1H
BEGIN:VTIMEZONE
TZID:America/New_York
BEGIN:DAYLIGHT
TZOFFSETFROM:-0500
TZOFFSETTO:-0400
TZNAME:EDT
DTSTART:20240310T070000
END:DAYLIGHT
BEGIN:STANDARD
TZOFFSETFROM:-0400
TZOFFSETTO:-0500
TZNAME:EST
DTSTART:20241103T060000
END:STANDARD
BEGIN:DAYLIGHT
TZOFFSETFROM:-0500
TZOFFSETTO:-0400
TZNAME:EDT
DTSTART:20250309T070000
END:DAYLIGHT
BEGIN:STANDARD
TZOFFSETFROM:-0400
TZOFFSETTO:-0500
TZNAME:EST
DTSTART:20251102T060000
END:STANDARD
BEGIN:DAYLIGHT
TZOFFSETFROM:-0500
TZOFFSETTO:-0400
TZNAME:EDT
DTSTART:20260308T070000
END:DAYLIGHT
BEGIN:STANDARD
TZOFFSETFROM:-0400
TZOFFSETTO:-0500
TZNAME:EST
DTSTART:20261101T060000
END:STANDARD
END:VTIMEZONE
BEGIN:VEVENT
DTSTART;TZID=America/New_York:20250123T120000
DTEND;TZID=America/New_York:20250123T130000
DTSTAMP:20260425T101226
CREATED:20250109T151033Z
LAST-MODIFIED:20250109T151033Z
UID:6041-1737633600-1737637200@eriqa.org
SUMMARY:Midi-causeries: Expériences des soins et des services chez les demandeurs d’asile et les migrants à statut précaire au Québec
DESCRIPTION:L’Unité de développement professionnel de l’ESPUM organise une conférence le 23 janvier à 12h avec Lara Gautier\, membre ÉRIQA et professeure adjointe à l’École de Santé Publique de l’Université de Montréal. La discussion portera sur les expériences des soins et des services chez les demandeurs d’asile et les migrants à statut précaire au Québec. \nDeux catégories de migrants – les demandeurs d’asile et les migrants à statut précaire – cumulent des facteurs de vulnérabilité (p.ex.\, logement précaire) qui creusent les inégalités de santé. Au Québec\, malgré une moindre santé autoperçue\, ces populations présentent un moindre accès aux soins et services de santé. Des barrières d’ordre systémique sont à l’origine de cette problématique – peur des institutions de santé\, injustice épistémique\, etc. Dans cette présentation\, nous présenterons les résultats de différentes recherches analysant l’expérience de soins et de services pour ces populations et nous proposerons des réflexions pour améliorer cette expérience. \nAu terme de la conférence\, le participant sera en mesure de : \n\nDécrire l’expérience des soins et des services au Québec pour les réfugiés\, les demandeurs d’asile et les migrants à statut précaire\nComprendre les principaux défis que rencontrent les réfugiés\, les demandeurs d’asile et les migrants à statut précaire dans leur expérience des soins et services\nDiscuter de différentes perspectives susceptibles d’améliorer cette expérience\n\nL’événement est gratuit et ouvert à toutes et tous. La conférence se tiendra en ligne. Les inscriptions de font ici.
URL:https://eriqa.org/evenement/midi-causeries-23-janv/
LOCATION:En ligne (inscription obligatoire)
ATTACH;FMTTYPE=image/png:https://eriqa.org/wp-content/uploads/2025/01/Midi-causeries-23-janvier.png
END:VEVENT
END:VCALENDAR